BEGIN:VCALENDAR
VERSION:2.0
PRODID:-//ExpressionEngine Easy iCalendar plugin//NONSGML v2.0.0//EN
X-WR-TIMEZONE:America/New_York
X-WR-CALNAME:Upcoming Auctions
BEGIN:VEVENT
UID:88950
DTSTAMP:20220916T100000
DTSTART:20220916T100000
DTEND:20220916T110000
SUMMARY:Estate of Joann H Bowers (deceased)
LOCATION:603 Long Street\, Eden\, NC 27288\, US
DESCRIPTION:House & Extra Lot
URL:https://www.jessemeeks.com/auctions/detail/bw88950
SEQUENCE:1
END:VEVENT
END:VCALENDAR