BEGIN:VCALENDAR
VERSION:2.0
PRODID:-//ExpressionEngine Easy iCalendar plugin//NONSGML v2.0.0//EN
X-WR-TIMEZONE:America/New_York
X-WR-CALNAME:Upcoming Auctions
BEGIN:VEVENT
UID:82417
DTSTAMP:20220402T100000
DTSTART:20220402T100000
DTEND:20220402T110000
SUMMARY:5 Room House & Lot\, Personal Property
LOCATION:1001 Willow St. \, Eden \, NC 27288\, US
DESCRIPTION:Brick Ranch Style House and Lot Also Selling Vehicles\, Furni
 ture\, Appliances\, and More
URL:https://www.jessemeeks.com/auctions/detail/bw82417
SEQUENCE:1
END:VEVENT
END:VCALENDAR