BEGIN:VCALENDAR
VERSION:2.0
PRODID:-//ExpressionEngine Easy iCalendar plugin//NONSGML v2.0.0//EN
X-WR-TIMEZONE:America/New_York
X-WR-CALNAME:Upcoming Auctions
BEGIN:VEVENT
UID:82414
DTSTAMP:20220402T100000
DTSTART:20220402T100000
DTEND:20220402T110000
SUMMARY:Vacant Lot
LOCATION:Tolbert St. \, Eden \, NC 27288\, US
DESCRIPTION:Vacant Lot 62.45 x 164.2 x 40 x 38.68 x 100 Estate of George
  "Wayne" Edwards (deceased) Selling From 1001 Willow St.\, Ed
 en\, NC
URL:https://www.jessemeeks.com/auctions/detail/bw82414
SEQUENCE:1
END:VEVENT
END:VCALENDAR