BEGIN:VCALENDAR
VERSION:2.0
PRODID:-//ExpressionEngine Easy iCalendar plugin//NONSGML v2.0.0//EN
X-WR-TIMEZONE:America/New_York
X-WR-CALNAME:Upcoming Auctions
BEGIN:VEVENT
UID:160749
DTSTAMP:20260516T160000
DTSTART:20260516T160000
DTEND:20260516T170000
SUMMARY:566 Easley Rd.\, Eden\, NC
LOCATION:566 Easley Rd.\, Eden\, NC 27288\, US
DESCRIPTION:Estate of Lilly Grogan Boulding (deceased) Mobile home and l
 ot  
URL:https://www.jessemeeks.com/auctions/detail/bw160749
SEQUENCE:1
END:VEVENT
END:VCALENDAR