BEGIN:VCALENDAR
VERSION:2.0
PRODID:-//ExpressionEngine Easy iCalendar plugin//NONSGML v2.0.0//EN
X-WR-TIMEZONE:America/New_York
X-WR-CALNAME:Upcoming Auctions
BEGIN:VEVENT
UID:160747
DTSTAMP:20260516T150000
DTSTART:20260516T150000
DTEND:20260516T160000
SUMMARY:436 Elam Ave.\, Eden\, NC
LOCATION:436 Elam Ave.\, Eden\, NC 27288\, US
DESCRIPTION:Estate of Lilly Grogan Boulding (Deceased) 3 Bedroom Home
URL:https://www.jessemeeks.com/auctions/detail/bw160747
SEQUENCE:1
END:VEVENT
END:VCALENDAR