BEGIN:VCALENDAR
VERSION:2.0
PRODID:-//ExpressionEngine Easy iCalendar plugin//NONSGML v2.0.0//EN
X-WR-TIMEZONE:America/New_York
X-WR-CALNAME:Upcoming Auctions
BEGIN:VEVENT
UID:160743
DTSTAMP:20260516T140000
DTSTART:20260516T140000
DTEND:20260516T150000
SUMMARY:315 Ewell St.\, Eden\, NC
LOCATION:315 Ewell St.\, Eden\, NC 27288\, US
DESCRIPTION:Estate of Lilly Grogan Boulding (deceased) House and Lot\, Co
 vered Porch
URL:https://www.jessemeeks.com/auctions/detail/bw160743
SEQUENCE:1
END:VEVENT
END:VCALENDAR