BEGIN:VCALENDAR
VERSION:2.0
PRODID:-//ExpressionEngine Easy iCalendar plugin//NONSGML v2.0.0//EN
X-WR-TIMEZONE:America/New_York
X-WR-CALNAME:Upcoming Auctions
BEGIN:VEVENT
UID:160742
DTSTAMP:20260516T130000
DTSTART:20260516T130000
DTEND:20260516T140000
SUMMARY:348 S. Hamilton St.\, Eden\, NC
LOCATION:348 S Hamilton St.\, Eden\, NC 27288\, US
DESCRIPTION:Estate of Lilly Grogan Boulding (deceased) 3 Bedroom\, 2 Bath
  Home
URL:https://www.jessemeeks.com/auctions/detail/bw160742
SEQUENCE:1
END:VEVENT
END:VCALENDAR