BEGIN:VCALENDAR
VERSION:2.0
PRODID:-//ExpressionEngine Easy iCalendar plugin//NONSGML v2.0.0//EN
X-WR-TIMEZONE:America/New_York
X-WR-CALNAME:Upcoming Auctions
BEGIN:VEVENT
UID:160740
DTSTAMP:20260516T120000
DTSTART:20260516T120000
DTEND:20260516T130000
SUMMARY:616 Elm St.\, Eden\, NC
LOCATION:616 Elm St.\, Eden\, NC 27288\, US
DESCRIPTION:Estate of Lilly Grogan Boulding (deceased)\, 7 Rooms\,  1\,5 B
 ath\, Extra lot
URL:https://www.jessemeeks.com/auctions/detail/bw160740
SEQUENCE:1
END:VEVENT
END:VCALENDAR