BEGIN:VCALENDAR
VERSION:2.0
PRODID:-//ExpressionEngine Easy iCalendar plugin//NONSGML v2.0.0//EN
X-WR-TIMEZONE:America/New_York
X-WR-CALNAME:Upcoming Auctions
BEGIN:VEVENT
UID:160735
DTSTAMP:20260516T100000
DTSTART:20260516T100000
DTEND:20260516T110000
SUMMARY:1010 Lawson St.\, Eden\, NC
LOCATION:1010 Lawson St.\, Eden\, NC 27288\, US
DESCRIPTION:Estate of Lilly Grogan Boulding (deceased) 3 Bedroom 2 Bath 
 Home .Selling on Site
URL:https://www.jessemeeks.com/auctions/detail/bw160735
SEQUENCE:1
END:VEVENT
END:VCALENDAR