BEGIN:VCALENDAR
VERSION:2.0
PRODID:-//ExpressionEngine Easy iCalendar plugin//NONSGML v2.0.0//EN
X-WR-TIMEZONE:America/New_York
X-WR-CALNAME:Upcoming Auctions
BEGIN:VEVENT
UID:111240
DTSTAMP:20231209T100000
DTSTART:20231209T100000
DTEND:20231209T110000
SUMMARY:220 Farmview Dr.\, Madison\, NC
LOCATION:220 Farmview Dr.\, Madison\, NC 27025\, US
DESCRIPTION:Auction will be on Site.   Very Nice Home on Approx. 1 Ac .
 just off Hwy 220  
URL:https://www.jessemeeks.com/auctions/detail/bw111240
SEQUENCE:1
END:VEVENT
END:VCALENDAR